BEGIN:VCALENDAR
VERSION:2.0
PRODID:-//Quartier Général de Lanaudière - ECPv6.15.15//NONSGML v1.0//EN
CALSCALE:GREGORIAN
METHOD:PUBLISH
X-WR-CALNAME:Quartier Général de Lanaudière
X-ORIGINAL-URL:https://qglanaudiere.com
X-WR-CALDESC:Événements pour Quartier Général de Lanaudière
REFRESH-INTERVAL;VALUE=DURATION:PT1H
X-Robots-Tag:noindex
X-PUBLISHED-TTL:PT1H
BEGIN:VTIMEZONE
TZID:America/Toronto
BEGIN:DAYLIGHT
TZOFFSETFROM:-0500
TZOFFSETTO:-0400
TZNAME:EDT
DTSTART:20250309T070000
END:DAYLIGHT
BEGIN:STANDARD
TZOFFSETFROM:-0400
TZOFFSETTO:-0500
TZNAME:EST
DTSTART:20251102T060000
END:STANDARD
BEGIN:DAYLIGHT
TZOFFSETFROM:-0500
TZOFFSETTO:-0400
TZNAME:EDT
DTSTART:20260308T070000
END:DAYLIGHT
BEGIN:STANDARD
TZOFFSETFROM:-0400
TZOFFSETTO:-0500
TZNAME:EST
DTSTART:20261101T060000
END:STANDARD
BEGIN:DAYLIGHT
TZOFFSETFROM:-0500
TZOFFSETTO:-0400
TZNAME:EDT
DTSTART:20270314T070000
END:DAYLIGHT
BEGIN:STANDARD
TZOFFSETFROM:-0400
TZOFFSETTO:-0500
TZNAME:EST
DTSTART:20271107T060000
END:STANDARD
END:VTIMEZONE
BEGIN:VEVENT
DTSTART;TZID=America/Toronto:20260211T120000
DTEND;TZID=America/Toronto:20260211T130000
DTSTAMP:20260417T131323
CREATED:20260129T130241Z
LAST-MODIFIED:20260129T130610Z
UID:6574-1770811200-1770814800@qglanaudiere.com
SUMMARY:Midi thématique : Présente ton entreprise - QG
DESCRIPTION:Mercredi 11 février | De 12 h 00 à 13 h 00 \nNous vous invitons à notre midi thématique “Présente ton entreprise”\, un dîner convivial conçu pour mettre en lumière les entreprises du QG\, favoriser les échanges et encourager les collaborations entre membres. \nLe concept est simple : durant la pause du midi\, tous les participants auront l’occasion de présenter leur entreprise\, leur expertise ou leur projet\, dans un format court et accessible. Ces présentations permettent de mieux se connaître\, de découvrir ce que font les autres membres et de créer des opportunités naturelles de collaboration. \nEntre les présentations\, les échanges se poursuivent autour du dîner\, dans une atmosphère détendue et ouverte. Chacun apporte son repas et profite du moment pour poser des questions\, discuter et tisser des liens\, sans pression ni formalité. \nQue vous soyez nouvellement installé ou déjà bien ancré au Quartier Général\, ce midi thématique est une excellente occasion de : \n\n\nfaire connaître votre entreprise \n\n\ndécouvrir les services et expertises des autres membres \n\n\néchanger dans un cadre simple et humain \n\n\nrenforcer le sentiment de communauté au QG \n\n\nAucune préparation complexe n’est requise. Venez luncher\, écouter\, présenter et échanger\, dans un esprit de partage et de collaboration.
URL:https://qglanaudiere.com/activite/midi-thematique-presente-ton-entreprise-qg/
END:VEVENT
END:VCALENDAR